Package: dandelionR Version: 1.1.4 Command: rm -rf dandelionR.buildbin-libdir && mkdir dandelionR.buildbin-libdir && F:\biocbuild\bbs-3.22-bioc\R\bin\R.exe CMD INSTALL --build --library=dandelionR.buildbin-libdir dandelionR_1.1.4.tar.gz StartedAt: 2025-08-15 10:05:30 -0400 (Fri, 15 Aug 2025) EndedAt: 2025-08-15 10:07:01 -0400 (Fri, 15 Aug 2025) EllapsedTime: 91.1 seconds RetCode: 0 Status: OK PackageFile: dandelionR_1.1.4.zip PackageFileSize: 7.474 MiB