Package: dandelionR Version: 1.1.5 Command: /home/biocbuild/bbs-3.22-bioc/R/bin/R CMD check --install=check:dandelionR.install-out.txt --library=/home/biocbuild/bbs-3.22-bioc/R/site-library --timings dandelionR_1.1.5.tar.gz StartedAt: 2025-10-16 23:54:10 -0400 (Thu, 16 Oct 2025) EndedAt: 2025-10-17 00:01:31 -0400 (Fri, 17 Oct 2025) EllapsedTime: 441.3 seconds RetCode: 0 Status: OK CheckDir: dandelionR.Rcheck Warnings: 0