Package: dandelionR Version: 1.3.0 Command: /home/biocbuild/bbs-3.23-bioc/R/bin/R CMD INSTALL dandelionR StartedAt: 2025-11-05 16:01:48 -0500 (Wed, 05 Nov 2025) EndedAt: 2025-11-05 16:02:26 -0500 (Wed, 05 Nov 2025) EllapsedTime: 37.9 seconds RetCode: 0 Status: OK