Package: dandelionR Version: 1.3.0 Command: /home/biocbuild/bbs-3.23-bioc/R/bin/R CMD check --install=check:dandelionR.install-out.txt --library=/home/biocbuild/bbs-3.23-bioc/R/site-library --timings dandelionR_1.3.0.tar.gz StartedAt: 2025-11-23 22:38:53 -0500 (Sun, 23 Nov 2025) EndedAt: 2025-11-23 22:47:18 -0500 (Sun, 23 Nov 2025) EllapsedTime: 505.6 seconds RetCode: 0 Status: OK CheckDir: dandelionR.Rcheck Warnings: 0