Package: dandelionR Version: 1.3.0 Command: /home/biocbuild/bbs-3.23-bioc/R/bin/R CMD build --keep-empty-dirs --no-resave-data dandelionR StartedAt: 2025-11-05 17:12:30 -0500 (Wed, 05 Nov 2025) EndedAt: 2025-11-05 17:15:08 -0500 (Wed, 05 Nov 2025) EllapsedTime: 158.2 seconds RetCode: 0 Status: OK PackageFile: dandelionR_1.3.0.tar.gz PackageFileSize: 11.44 MiB