Package: dandelionR Version: 1.1.5 Maintainer: Kelvin Tuong MaintainerEmail: z.tuong at uq.edu.au git_url: https://git.bioconductor.org/packages/dandelionR git_branch: devel git_last_commit: c08cfd6 git_last_commit_date: 2025-10-14 14:41:51 -0400 (Tue, 14 Oct 2025)