Package: dagLogo Version: 1.49.0 Command: /home/biocbuild/bbs-3.23-bioc/R/bin/R CMD INSTALL dagLogo StartedAt: 2025-11-20 15:53:04 -0500 (Thu, 20 Nov 2025) EndedAt: 2025-11-20 15:53:48 -0500 (Thu, 20 Nov 2025) EllapsedTime: 44.3 seconds RetCode: 0 Status: OK