Package: dagLogo Version: 1.47.0 Command: /Library/Frameworks/R.framework/Resources/bin/R CMD INSTALL dagLogo StartedAt: 2025-10-23 15:45:08 -0400 (Thu, 23 Oct 2025) EndedAt: 2025-10-23 15:46:07 -0400 (Thu, 23 Oct 2025) EllapsedTime: 59.1 seconds RetCode: 0 Status: OK