Package: dagLogo Version: 1.47.0 Command: /Library/Frameworks/R.framework/Resources/bin/R CMD INSTALL dagLogo StartedAt: 2025-10-16 15:39:47 -0400 (Thu, 16 Oct 2025) EndedAt: 2025-10-16 15:40:06 -0400 (Thu, 16 Oct 2025) EllapsedTime: 18.8 seconds RetCode: 0 Status: OK