Package: dagLogo Version: 1.47.0 Command: /Library/Frameworks/R.framework/Resources/bin/R CMD build --keep-empty-dirs --no-resave-data dagLogo StartedAt: 2025-10-15 16:07:21 -0400 (Wed, 15 Oct 2025) EndedAt: 2025-10-15 16:08:06 -0400 (Wed, 15 Oct 2025) EllapsedTime: 44.5 seconds RetCode: 0 Status: OK PackageFile: dagLogo_1.47.0.tar.gz PackageFileSize: 3.112 MiB