Package: dada2 Version: 1.37.0 Command: /home/biocbuild/bbs-3.22-bioc/R/bin/R CMD check --install=check:dada2.install-out.txt --library=/home/biocbuild/bbs-3.22-bioc/R/site-library --timings dada2_1.37.0.tar.gz StartedAt: 2025-10-15 23:26:42 -0400 (Wed, 15 Oct 2025) EndedAt: 2025-10-15 23:32:14 -0400 (Wed, 15 Oct 2025) EllapsedTime: 331.3 seconds RetCode: 0 Status: WARNINGS CheckDir: dada2.Rcheck Warnings: 1