Package: dada2 Version: 1.39.0 Command: /home/biocbuild/bbs-3.23-bioc/R/bin/R CMD build --keep-empty-dirs --no-resave-data dada2 StartedAt: 2025-11-03 17:03:53 -0500 (Mon, 03 Nov 2025) EndedAt: 2025-11-03 17:05:39 -0500 (Mon, 03 Nov 2025) EllapsedTime: 106.1 seconds RetCode: 0 Status: OK PackageFile: dada2_1.39.0.tar.gz PackageFileSize: 2.752 MiB