Package: daMA Version: 1.83.0 Command: /Library/Frameworks/R.framework/Resources/bin/R CMD INSTALL daMA StartedAt: 2025-11-21 15:11:11 -0500 (Fri, 21 Nov 2025) EndedAt: 2025-11-21 15:11:39 -0500 (Fri, 21 Nov 2025) EllapsedTime: 27.7 seconds RetCode: 0 Status: OK