Package: daMA Version: 1.82.0 Command: /Library/Frameworks/R.framework/Resources/bin/R CMD INSTALL daMA StartedAt: 2025-10-29 21:23:57 -0400 (Wed, 29 Oct 2025) EndedAt: 2025-10-29 21:24:05 -0400 (Wed, 29 Oct 2025) EllapsedTime: 7.7 seconds RetCode: 0 Status: OK