Package: daMA Version: 1.82.0 Command: /Library/Frameworks/R.framework/Resources/bin/R CMD build --keep-empty-dirs --no-resave-data daMA StartedAt: 2025-10-29 22:29:17 -0400 (Wed, 29 Oct 2025) EndedAt: 2025-10-29 22:29:18 -0400 (Wed, 29 Oct 2025) EllapsedTime: 1.0 seconds RetCode: 0 Status: OK PackageFile: daMA_1.82.0.tar.gz PackageFileSize: 4.026 MiB