Package: daMA Version: 1.82.0 Command: rm -rf daMA.buildbin-libdir && mkdir daMA.buildbin-libdir && /Users/biocbuild/BBS/utils/build-universal.sh daMA_1.82.0.tar.gz /Library/Frameworks/R.framework/Resources/bin/R daMA.buildbin-libdir StartedAt: 2025-10-30 05:21:34 -0400 (Thu, 30 Oct 2025) EndedAt: 2025-10-30 05:21:36 -0400 (Thu, 30 Oct 2025) EllapsedTime: 2.0 seconds RetCode: 0 Status: OK PackageFile: daMA_1.82.0.tgz PackageFileSize: 4.059 MiB