Package: dStruct Version: 1.15.0 Command: /home/biocbuild/R/R/bin/R CMD INSTALL dStruct StartedAt: 2025-10-02 20:34:34 -0000 (Thu, 02 Oct 2025) EndedAt: 2025-10-02 20:34:38 -0000 (Thu, 02 Oct 2025) EllapsedTime: 3.3 seconds RetCode: 0 Status: OK