Package: dStruct Version: 1.15.0 Command: /home/biocbuild/R/R/bin/R CMD build --keep-empty-dirs --no-resave-data dStruct StartedAt: 2025-10-02 23:42:44 -0000 (Thu, 02 Oct 2025) EndedAt: 2025-10-02 23:43:09 -0000 (Thu, 02 Oct 2025) EllapsedTime: 25.0 seconds RetCode: 0 Status: OK PackageFile: dStruct_1.15.0.tar.gz PackageFileSize: 623.1 KiB