Package: dStruct Version: 1.17.0 Command: /home/biocbuild/bbs-3.23-bioc/R/bin/R CMD INSTALL dStruct StartedAt: 2025-11-16 15:14:59 -0500 (Sun, 16 Nov 2025) EndedAt: 2025-11-16 15:15:02 -0500 (Sun, 16 Nov 2025) EllapsedTime: 2.6 seconds RetCode: 0 Status: OK