Package: dStruct Version: 1.17.0 Command: /home/biocbuild/bbs-3.23-bioc/R/bin/R CMD check --install=check:dStruct.install-out.txt --library=/home/biocbuild/bbs-3.23-bioc/R/site-library --timings dStruct_1.17.0.tar.gz StartedAt: 2025-11-16 23:17:40 -0500 (Sun, 16 Nov 2025) EndedAt: 2025-11-16 23:19:14 -0500 (Sun, 16 Nov 2025) EllapsedTime: 94.1 seconds RetCode: 0 Status: OK CheckDir: dStruct.Rcheck Warnings: 0