Package: cytoviewer Version: 1.9.0 Command: /home/biocbuild/bbs-3.22-bioc/R/bin/R CMD build --keep-empty-dirs --no-resave-data --md5 cytoviewer StartedAt: 2025-10-24 17:18:49 -0400 (Fri, 24 Oct 2025) EndedAt: 2025-10-24 17:20:04 -0400 (Fri, 24 Oct 2025) EllapsedTime: 75.1 seconds RetCode: 0 Status: OK PackageFile: cytoviewer_1.9.0.tar.gz PackageFileSize: 9.261 MiB