Package: cytomapper Version: 1.21.0 Command: /home/biocbuild/R/R/bin/R CMD build --keep-empty-dirs --no-resave-data cytomapper StartedAt: 2025-10-13 23:35:22 -0000 (Mon, 13 Oct 2025) EndedAt: 2025-10-13 23:37:39 -0000 (Mon, 13 Oct 2025) EllapsedTime: 137.1 seconds RetCode: 0 Status: OK PackageFile: cytomapper_1.21.0.tar.gz PackageFileSize: 19.83 MiB