Package: cytomapper Version: 1.23.0 Command: /home/biocbuild/bbs-3.23-bioc/R/bin/R CMD check --install=check:cytomapper.install-out.txt --library=/home/biocbuild/bbs-3.23-bioc/R/site-library --timings cytomapper_1.23.0.tar.gz StartedAt: 2025-11-14 22:34:57 -0500 (Fri, 14 Nov 2025) EndedAt: 2025-11-14 22:51:49 -0500 (Fri, 14 Nov 2025) EllapsedTime: 1012.2 seconds RetCode: 0 Status: OK CheckDir: cytomapper.Rcheck Warnings: 0