Package: cytomapper Version: 1.23.0 Command: /home/biocbuild/bbs-3.23-bioc/R/bin/R CMD build --keep-empty-dirs --no-resave-data cytomapper StartedAt: 2025-11-05 17:10:40 -0500 (Wed, 05 Nov 2025) EndedAt: 2025-11-05 17:12:18 -0500 (Wed, 05 Nov 2025) EllapsedTime: 98.1 seconds RetCode: 0 Status: OK PackageFile: cytomapper_1.23.0.tar.gz PackageFileSize: 20.96 MiB