Package: cytolib Version: 2.21.0 Command: /home/biocbuild/R/R/bin/R CMD INSTALL cytolib StartedAt: 2025-10-02 20:25:16 -0000 (Thu, 02 Oct 2025) EndedAt: 2025-10-02 20:29:23 -0000 (Thu, 02 Oct 2025) EllapsedTime: 247.0 seconds RetCode: 0 Status: OK