Package: cytolib Version: 2.21.0 Command: /home/biocbuild/R/R/bin/R CMD build --keep-empty-dirs --no-resave-data cytolib StartedAt: 2025-10-02 23:19:11 -0000 (Thu, 02 Oct 2025) EndedAt: 2025-10-02 23:23:08 -0000 (Thu, 02 Oct 2025) EllapsedTime: 237.1 seconds RetCode: 0 Status: OK PackageFile: cytolib_2.21.0.tar.gz PackageFileSize: 5.851 MiB