Package: cytolib Version: 2.21.0 Command: rm -rf cytolib.buildbin-libdir && mkdir cytolib.buildbin-libdir && F:\biocbuild\bbs-3.22-bioc\R\bin\R.exe CMD INSTALL --build --library=cytolib.buildbin-libdir cytolib_2.21.0.tar.gz StartedAt: 2025-08-15 10:04:29 -0400 (Fri, 15 Aug 2025) EndedAt: 2025-08-15 10:11:23 -0400 (Fri, 15 Aug 2025) EllapsedTime: 413.7 seconds RetCode: 0 Status: OK PackageFile: cytolib_2.21.0.zip PackageFileSize: 4.926 MiB