Package: cytolib Version: 2.23.0 Command: /home/biocbuild/bbs-3.23-bioc/R/bin/R CMD INSTALL cytolib StartedAt: 2025-11-03 15:07:16 -0500 (Mon, 03 Nov 2025) EndedAt: 2025-11-03 15:09:46 -0500 (Mon, 03 Nov 2025) EllapsedTime: 149.8 seconds RetCode: 0 Status: OK