Package: cytolib Version: 2.23.0 Command: /home/biocbuild/bbs-3.23-bioc/R/bin/R CMD check --install=check:cytolib.install-out.txt --library=/home/biocbuild/bbs-3.23-bioc/R/site-library --timings cytolib_2.23.0.tar.gz StartedAt: 2025-10-31 22:29:03 -0400 (Fri, 31 Oct 2025) EndedAt: 2025-10-31 22:29:21 -0400 (Fri, 31 Oct 2025) EllapsedTime: 18.0 seconds RetCode: 0 Status: WARNINGS CheckDir: cytolib.Rcheck Warnings: 2