Package: cytofQC Version: 1.11.0 Command: /home/biocbuild/bbs-3.23-bioc/R/bin/R CMD build --keep-empty-dirs --no-resave-data cytofQC StartedAt: 2025-11-20 17:07:57 -0500 (Thu, 20 Nov 2025) EndedAt: 2025-11-20 17:07:58 -0500 (Thu, 20 Nov 2025) EllapsedTime: 1.0 seconds RetCode: 1 Status: ERROR PackageFile: None PackageFileSize: NA