Package: cytofQC Version: 1.11.0 Command: /Library/Frameworks/R.framework/Resources/bin/R CMD INSTALL cytofQC StartedAt: 2025-11-21 16:01:18 -0500 (Fri, 21 Nov 2025) EndedAt: 2025-11-21 16:01:19 -0500 (Fri, 21 Nov 2025) EllapsedTime: 0.3 seconds RetCode: 1 Status: ERROR