Package: cytofQC Version: 1.11.0 Command: /Library/Frameworks/R.framework/Resources/bin/R CMD build --keep-empty-dirs --no-resave-data cytofQC StartedAt: 2025-11-21 16:40:22 -0500 (Fri, 21 Nov 2025) EndedAt: 2025-11-21 16:40:24 -0500 (Fri, 21 Nov 2025) EllapsedTime: 2.3 seconds RetCode: 1 Status: ERROR PackageFile: None PackageFileSize: NA