############################################################################## ############################################################################## ### ### Running command: ### ### /Library/Frameworks/R.framework/Resources/bin/R CMD build --keep-empty-dirs --no-resave-data cytofQC ### ############################################################################## ############################################################################## * checking for file ‘cytofQC/DESCRIPTION’ ... OK * preparing ‘cytofQC’: * checking DESCRIPTION meta-information ... OK * installing the package (it is needed to build vignettes) ----------------------------------- ERROR: dependency ‘hrbrthemes’ is not available for package ‘cytofQC’ Perhaps try a variation of: install.packages('hrbrthemes') * removing ‘/private/tmp/RtmpdKI6Hw/Rinst16de5ef7ca94/cytofQC’ ----------------------------------- ERROR: package installation failed