Package: cytofQC Version: 1.9.0 Command: /Library/Frameworks/R.framework/Resources/bin/R CMD INSTALL cytofQC StartedAt: 2025-10-14 15:35:26 -0400 (Tue, 14 Oct 2025) EndedAt: 2025-10-14 15:35:26 -0400 (Tue, 14 Oct 2025) EllapsedTime: 0.1 seconds RetCode: 1 Status: ERROR