Package: cytofQC Version: 1.9.0 Command: /Library/Frameworks/R.framework/Resources/bin/R CMD build --keep-empty-dirs --no-resave-data cytofQC StartedAt: 2025-10-16 16:18:07 -0400 (Thu, 16 Oct 2025) EndedAt: 2025-10-16 16:18:08 -0400 (Thu, 16 Oct 2025) EllapsedTime: 1.0 seconds RetCode: 1 Status: ERROR PackageFile: None PackageFileSize: NA