Package: cytoMEM Version: 1.15.0 Command: /Library/Frameworks/R.framework/Resources/bin/R CMD build --keep-empty-dirs --no-resave-data cytoMEM StartedAt: 2025-11-21 16:03:58 -0500 (Fri, 21 Nov 2025) EndedAt: 2025-11-21 16:04:05 -0500 (Fri, 21 Nov 2025) EllapsedTime: 7.1 seconds RetCode: 0 Status: OK PackageFile: cytoMEM_1.15.0.tar.gz PackageFileSize: 3.075 MiB