Package: cytoKernel Version: 1.17.0 Command: /home/biocbuild/bbs-3.23-bioc/R/bin/R CMD INSTALL cytoKernel StartedAt: 2025-11-05 15:24:12 -0500 (Wed, 05 Nov 2025) EndedAt: 2025-11-05 15:24:42 -0500 (Wed, 05 Nov 2025) EllapsedTime: 30.1 seconds RetCode: 0 Status: OK