Package: cytoKernel Version: 1.17.0 Command: /home/biocbuild/bbs-3.23-bioc/R/bin/R CMD check --install=check:cytoKernel.install-out.txt --library=/home/biocbuild/bbs-3.23-bioc/R/site-library --timings cytoKernel_1.17.0.tar.gz StartedAt: 2025-11-06 22:24:02 -0500 (Thu, 06 Nov 2025) EndedAt: 2025-11-06 22:27:50 -0500 (Thu, 06 Nov 2025) EllapsedTime: 228.4 seconds RetCode: 0 Status: OK CheckDir: cytoKernel.Rcheck Warnings: 0