Package: cytoKernel Version: 1.17.0 Command: /home/biocbuild/bbs-3.23-bioc/R/bin/R CMD build --keep-empty-dirs --no-resave-data cytoKernel StartedAt: 2025-11-05 17:10:29 -0500 (Wed, 05 Nov 2025) EndedAt: 2025-11-05 17:11:14 -0500 (Wed, 05 Nov 2025) EllapsedTime: 45.0 seconds RetCode: 0 Status: OK PackageFile: cytoKernel_1.17.0.tar.gz PackageFileSize: 710.4 KiB