Package: cypress Version: 1.7.0 Command: /home/biocbuild/bbs-3.23-bioc/R/bin/R CMD INSTALL cypress StartedAt: 2025-11-05 16:07:04 -0500 (Wed, 05 Nov 2025) EndedAt: 2025-11-05 16:07:33 -0500 (Wed, 05 Nov 2025) EllapsedTime: 28.5 seconds RetCode: 0 Status: OK