Package: cypress Version: 1.7.0 Command: /home/biocbuild/bbs-3.23-bioc/R/bin/R CMD build --keep-empty-dirs --no-resave-data cypress StartedAt: 2025-11-05 17:09:53 -0500 (Wed, 05 Nov 2025) EndedAt: 2025-11-05 17:14:58 -0500 (Wed, 05 Nov 2025) EllapsedTime: 305.3 seconds RetCode: 0 Status: OK PackageFile: cypress_1.7.0.tar.gz PackageFileSize: 2.616 MiB