Package: cypress Version: 1.5.0 Command: /Library/Frameworks/R.framework/Resources/bin/R CMD INSTALL cypress StartedAt: 2025-10-02 15:50:59 -0400 (Thu, 02 Oct 2025) EndedAt: 2025-10-02 15:51:39 -0400 (Thu, 02 Oct 2025) EllapsedTime: 40.0 seconds RetCode: 0 Status: OK