Package: cypress Version: 1.5.0 Command: /Library/Frameworks/R.framework/Resources/bin/R CMD build --keep-empty-dirs --no-resave-data cypress StartedAt: 2025-10-02 16:36:28 -0400 (Thu, 02 Oct 2025) EndedAt: 2025-10-02 16:42:20 -0400 (Thu, 02 Oct 2025) EllapsedTime: 352.0 seconds RetCode: 0 Status: OK PackageFile: cypress_1.5.0.tar.gz PackageFileSize: 2.719 MiB