Package: cypress Version: 1.5.0 Command: rm -rf cypress.buildbin-libdir && mkdir cypress.buildbin-libdir && /Users/biocbuild/BBS/utils/build-universal.sh cypress_1.5.0.tar.gz /Library/Frameworks/R.framework/Resources/bin/R cypress.buildbin-libdir StartedAt: 2025-10-04 02:00:48 -0400 (Sat, 04 Oct 2025) EndedAt: 2025-10-04 02:01:32 -0400 (Sat, 04 Oct 2025) EllapsedTime: 44.0 seconds RetCode: 0 Status: OK PackageFile: cypress_1.5.0.tgz PackageFileSize: 2.502 MiB