Package: cydar Version: 1.35.0 Command: /home/biocbuild/bbs-3.23-bioc/R/bin/R CMD build --keep-empty-dirs --no-resave-data cydar StartedAt: 2025-11-20 17:07:26 -0500 (Thu, 20 Nov 2025) EndedAt: 2025-11-20 17:08:34 -0500 (Thu, 20 Nov 2025) EllapsedTime: 68.1 seconds RetCode: 0 Status: OK PackageFile: cydar_1.35.0.tar.gz PackageFileSize: 493 KiB