Package: cydar Version: 1.35.0 Command: /Library/Frameworks/R.framework/Resources/bin/R CMD INSTALL cydar StartedAt: 2025-11-20 15:33:38 -0500 (Thu, 20 Nov 2025) EndedAt: 2025-11-20 15:34:40 -0500 (Thu, 20 Nov 2025) EllapsedTime: 61.9 seconds RetCode: 0 Status: OK