Package: cydar Version: 1.35.0 Command: /Library/Frameworks/R.framework/Resources/bin/R CMD build --keep-empty-dirs --no-resave-data cydar StartedAt: 2025-11-20 16:39:58 -0500 (Thu, 20 Nov 2025) EndedAt: 2025-11-20 16:41:35 -0500 (Thu, 20 Nov 2025) EllapsedTime: 97.0 seconds RetCode: 0 Status: OK PackageFile: cydar_1.35.0.tar.gz PackageFileSize: 744.1 KiB