Package: cydar Version: 1.35.0 Command: rm -rf cydar.buildbin-libdir && mkdir cydar.buildbin-libdir && /Users/biocbuild/BBS/utils/build-universal.sh cydar_1.35.0.tar.gz /Library/Frameworks/R.framework/Resources/bin/R cydar.buildbin-libdir StartedAt: 2025-11-21 01:29:20 -0500 (Fri, 21 Nov 2025) EndedAt: 2025-11-21 01:30:28 -0500 (Fri, 21 Nov 2025) EllapsedTime: 68.1 seconds RetCode: 0 Status: OK PackageFile: cydar_1.35.0.tgz PackageFileSize: 1.458 MiB