Package: cycle Version: 1.65.0 Command: /home/biocbuild/bbs-3.23-bioc/R/bin/R CMD INSTALL cycle StartedAt: 2025-11-07 15:14:18 -0500 (Fri, 07 Nov 2025) EndedAt: 2025-11-07 15:14:22 -0500 (Fri, 07 Nov 2025) EllapsedTime: 4.0 seconds RetCode: 0 Status: OK