Package: cycle Version: 1.65.0 Command: /home/biocbuild/bbs-3.23-bioc/R/bin/R CMD build --keep-empty-dirs --no-resave-data cycle StartedAt: 2025-11-07 17:03:05 -0500 (Fri, 07 Nov 2025) EndedAt: 2025-11-07 17:03:30 -0500 (Fri, 07 Nov 2025) EllapsedTime: 25.0 seconds RetCode: 0 Status: OK PackageFile: cycle_1.65.0.tar.gz PackageFileSize: 248 KiB